BEGIN:VCALENDAR
VERSION:2.0
PRODID:icalendar-ruby
CALSCALE:GREGORIAN
METHOD:PUBLISH
BEGIN:VEVENT
DTSTAMP:20260424T055717Z
UID:11-692521@christschurchatlillian.com
DTSTART:20260913T141500Z
DTEND:20260913T144500Z
CLASS:PUBLIC
CREATED:20260423T214358
DESCRIPTION:
LAST-MODIFIED:20260423T214358
LOCATION:
SUMMARY:Prayer Group
URL;VALUE=URI:https://www.lillian.church/events/prayer-group/2026-09-13
ATTACH;FILENAME=wvOY.jpg;FMTTYPE=image/jpeg:https://dq5pwpg1q8ru0.cloudfron
 t.net/2024/04/14/02/17/10/1da78ac3-27f3-47e8-b8c2-2533d6609b56/wvOY.jpg
END:VEVENT
END:VCALENDAR
