BEGIN:VCALENDAR
VERSION:2.0
PRODID:icalendar-ruby
CALSCALE:GREGORIAN
METHOD:PUBLISH
BEGIN:VEVENT
DTSTAMP:20260421T140035Z
UID:32-567697@christschurchatlillian.com
DTSTART:20260429T233000Z
DTEND:20260430T013000Z
CLASS:PUBLIC
CREATED:20260308T212254
DESCRIPTION:
LAST-MODIFIED:20260308T212254
LOCATION:
SUMMARY:Lillian Youth Group
URL;VALUE=URI:https://www.lillian.church/events/lillian-youth-group--32/202
 6-04-29
END:VEVENT
END:VCALENDAR
