BEGIN:VCALENDAR
VERSION:2.0
PRODID:icalendar-ruby
CALSCALE:GREGORIAN
METHOD:PUBLISH
BEGIN:VEVENT
DTSTAMP:20260421T122147Z
UID:32-567696@christschurchatlillian.com
DTSTART:20260422T233000Z
DTEND:20260423T013000Z
CLASS:PUBLIC
CREATED:20260308T212254
DESCRIPTION:
LAST-MODIFIED:20260308T212254
LOCATION:
SUMMARY:Lillian Youth Group
URL;VALUE=URI:https://www.lillian.church/events/lillian-youth-group--32/202
 6-04-22
END:VEVENT
END:VCALENDAR
