BEGIN:VCALENDAR
VERSION:2.0
PRODID:icalendar-ruby
CALSCALE:GREGORIAN
METHOD:PUBLISH
BEGIN:VEVENT
DTSTAMP:20260421T141547Z
UID:33-567714@christschurchatlillian.com
DTSTART:20260429T230000Z
DTEND:20260430T003000Z
CLASS:PUBLIC
CREATED:20260308T212402
DESCRIPTION:
LAST-MODIFIED:20260308T212402
LOCATION:
SUMMARY:Kingdom Kids
URL;VALUE=URI:https://www.lillian.church/events/kingdom-kids--33/2026-04-29
END:VEVENT
END:VCALENDAR
